BEGIN:VCALENDAR
VERSION:2.0
PRODID:-//CHAC - ECPv6.15.20//NONSGML v1.0//EN
CALSCALE:GREGORIAN
METHOD:PUBLISH
X-WR-CALNAME:CHAC
X-ORIGINAL-URL:https://chaconline.org
X-WR-CALDESC:Events for CHAC
REFRESH-INTERVAL;VALUE=DURATION:PT1H
X-Robots-Tag:noindex
X-PUBLISHED-TTL:PT1H
BEGIN:VTIMEZONE
TZID:America/Denver
BEGIN:DAYLIGHT
TZOFFSETFROM:-0700
TZOFFSETTO:-0600
TZNAME:MDT
DTSTART:20250309T090000
END:DAYLIGHT
BEGIN:STANDARD
TZOFFSETFROM:-0600
TZOFFSETTO:-0700
TZNAME:MST
DTSTART:20251102T080000
END:STANDARD
BEGIN:DAYLIGHT
TZOFFSETFROM:-0700
TZOFFSETTO:-0600
TZNAME:MDT
DTSTART:20260308T090000
END:DAYLIGHT
BEGIN:STANDARD
TZOFFSETFROM:-0600
TZOFFSETTO:-0700
TZNAME:MST
DTSTART:20261101T080000
END:STANDARD
BEGIN:DAYLIGHT
TZOFFSETFROM:-0700
TZOFFSETTO:-0600
TZNAME:MDT
DTSTART:20270314T090000
END:DAYLIGHT
BEGIN:STANDARD
TZOFFSETFROM:-0600
TZOFFSETTO:-0700
TZNAME:MST
DTSTART:20271107T080000
END:STANDARD
END:VTIMEZONE
BEGIN:VEVENT
DTSTART;TZID=America/Denver:20260421T090000
DTEND;TZID=America/Denver:20260421T093000
DTSTAMP:20260421T025525
CREATED:20240319T142249Z
LAST-MODIFIED:20260414T173750Z
UID:10000363-1776762000-1776763800@chaconline.org
SUMMARY:1/2 HOUR PHONE SESSION- Tuesday April 21 - 9:00 to 9:30 AM (MDT)
DESCRIPTION:To register for this phone session: \nSend an e-mail to:     Register@CHAConline.org \nProvide your name\, phone number\,  and the date and time of the session \nyou are requesting . \nYou will receive an email with the call in information. \nYou must have completed your on-line course before completing the phone session.  It is best to call in about 10 minutes  prior to the start of the session. Read the directions carefully – we will not call you. You must call in to join the session.  You will receive your certificate within 24 hours once this session is completed.  Please allow time for that process to complete.  \nIf you have any additional questions please e-mail Veronicac@CHAConline.org
URL:https://chaconline.org/event/1-2-hour-phone-session-tuesday-march-26-900-to-930-a-m-mdt-2/
LOCATION:Phone call in\, CO\, United States
ORGANIZER;CN="Colorado Housing Assistance Corporation":MAILTO:veronicac@CHAConline.org
END:VEVENT
BEGIN:VEVENT
DTSTART;TZID=America/Denver:20260422T120000
DTEND;TZID=America/Denver:20260422T123000
DTSTAMP:20260421T025525
CREATED:20240319T142537Z
LAST-MODIFIED:20260415T222454Z
UID:10000365-1776859200-1776861000@chaconline.org
SUMMARY:1/2 HOUR PHONE SESSION- Wednesday April 22 - 12:00 to 12:30 PM (MDT)
DESCRIPTION:To register for this phone session: \nSend an e-mail to:     Register@CHAConline.org \nProvide your name\, phone number\,  and the date and time of the session \nyou are requesting . \nYou will receive an email with the call in information. \nYou must have completed your on-line course before completing the phone session.  It is best to call in about 10 minutes  prior to the start of the session. Read the directions carefully – we will not call you. You must call in to join the session.  You will receive your certificate within 24 hours once this session is completed.  Please allow time for that process to complete.  \nIf you have any additional questions please e-mail Veronicac@CHAConline.org
URL:https://chaconline.org/event/1-2-hour-phone-session-wednesday-march-27-1200-to-1230-p-m-mdt/
LOCATION:Phone call in\, CO\, United States
ORGANIZER;CN="Colorado Housing Assistance Corporation":MAILTO:veronicac@CHAConline.org
END:VEVENT
BEGIN:VEVENT
DTSTART;TZID=America/Denver:20260423T100000
DTEND;TZID=America/Denver:20260423T103000
DTSTAMP:20260421T025525
CREATED:20240319T142641Z
LAST-MODIFIED:20260420T154217Z
UID:10000366-1776938400-1776940200@chaconline.org
SUMMARY:1/2 HOUR PHONE SESSION - Thursday April 23 - 10:00 to 10:30 AM (MDT)
DESCRIPTION:To register for this phone session: \nSend an e-mail to:     Register@CHAConline.org \nProvide your name\, phone number\,  and the date and time of the session \nyou are requesting . \nYou will receive an email with the call in information. \nYou must have completed your on-line course before completing the phone session.  It is best to call in about 10 minutes  prior to the start of the session. Read the directions carefully – we will not call you. You must call in to join the session.  You will receive your certificate within 24 hours once this session is completed.  Please allow time for that process to complete.  \nIf you have any additional questions please e-mail Veronicac@CHAConline.org
URL:https://chaconline.org/event/1-2-hour-phone-session-thursday-march-28-1000-to-1030-a-m-mdt/
LOCATION:Phone call in\, CO\, United States
ORGANIZER;CN="Colorado Housing Assistance Corporation":MAILTO:veronicac@CHAConline.org
END:VEVENT
BEGIN:VEVENT
DTSTART;TZID=America/Denver:20260423T163000
DTEND;TZID=America/Denver:20260423T163000
DTSTAMP:20260421T025525
CREATED:20250708T181517Z
LAST-MODIFIED:20260324T170352Z
UID:10000373-1776961800-1776961800@chaconline.org
SUMMARY:Site Based First Time Homebuyer Class - 100 Spader Way - 4:30 PM - Thursday April 23\, 2026
DESCRIPTION:Please email register@chaconline.org. Ask to register for the Broomfield on-site class at 100 Spader Way Broomfield CO 80020. For questions please call 303-572-9445.\nThis on-site class provides a wide range of information about purchasing a home including information about special programs for low to moderate income buyers. It is open to anyone whether just starting out or about to close. It is a requirement for many different programs and loan products.  A Certificate of Completion will be provided at the end of the class. 
URL:https://chaconline.org/event/site-based-first-time-homebuyer-class-100-spader-way-430-pm-august-7-2025/
LOCATION:100 Spader Way Broomfield CO 80020\, 100 Spader Way\, Broomfield\, CO\, 80020\, United States
CATEGORIES:Site Based Class Session - Denver
ORGANIZER;CN="Colorado Housing Assistance Corporation":MAILTO:veronicac@CHAConline.org
END:VEVENT
BEGIN:VEVENT
DTSTART;TZID=America/Denver:20260424T100000
DTEND;TZID=America/Denver:20260424T103000
DTSTAMP:20260421T025525
CREATED:20240319T142747Z
LAST-MODIFIED:20260420T154150Z
UID:10000367-1777024800-1777026600@chaconline.org
SUMMARY:1/2 HOUR PHONE SESSION - Friday April 24 - 10:00 to 10:30 AM (MDT)
DESCRIPTION:To register for this phone session: \nSend an e-mail to:     Register@CHAConline.org \nProvide your name\, phone number\,  and the date and time of the session \nyou are requesting . \nYou will receive an email with the call in information. \nYou must have completed your on-line course before completing the phone session.  It is best to call in about 10 minutes  prior to the start of the session. Read the directions carefully – we will not call you. You must call in to join the session.  You will receive your certificate within 24 hours once this session is completed.  Please allow time for that process to complete.  \nIf you have any additional questions please e-mail Veronicac@CHAConline.org
URL:https://chaconline.org/event/1-2-hour-phone-session-friday-march-29-1000-to-1030-a-m-mdt/
LOCATION:Phone call in\, CO\, United States
ORGANIZER;CN="Colorado Housing Assistance Corporation":MAILTO:veronicac@CHAConline.org
END:VEVENT
BEGIN:VEVENT
DTSTART;TZID=America/Denver:20260507T163000
DTEND;TZID=America/Denver:20260507T163000
DTSTAMP:20260421T025525
CREATED:20240319T143114Z
LAST-MODIFIED:20260409T231915Z
UID:10000369-1778171400-1778171400@chaconline.org
SUMMARY:Site Based First Time Homebuyer Class - 670 Santa Fe Drive - 4:30 PM - Thursday May 7\, 2026
DESCRIPTION:Please email register@chaconline.org. Ask to register for the on-site class at our office 670 Santa Fe Drive Denver CO 80204. For questions please call 303-572-9445.\nThis on-site class provides a wide range of information about purchasing a home including information about special programs for low to moderate income buyers. It is open to anyone whether just starting out or about to close. It is a requirement for many different programs and loan products.  A Certificate of Completion will be provided at the end of the class. 
URL:https://chaconline.org/event/site-based-first-time-homebuyer-class-670-santa-fe-drive/
LOCATION:On-Site HomeBuyer Class – 670 Santa Fe DR\, Denver CO 80204
CATEGORIES:Site Based Class Session - Denver
ORGANIZER;CN="Colorado Housing Assistance Corporation":MAILTO:veronicac@CHAConline.org
END:VEVENT
END:VCALENDAR